BEGIN:VCALENDAR
VERSION:2.0
PRODID:-//Cowlinge Parish Council//Meeting Calendar//EN
CALSCALE:GREGORIAN
METHOD:PUBLISH
BEGIN:VEVENT
UID:70515-20220629@cowlingeparishcouncil.gov.uk
DTSTAMP:20260421T083152Z
DTSTART;VALUE=DATE:20220629
DTEND;VALUE=DATE:20220630
SUMMARY:Council Meeting &#8211\\; 29th June 2022
DESCRIPTION:Full Council Meeting\nView details: https://cowlingeparishcouncil.gov.uk/meetings/council-meeting-29th-june-2022/
URL:https://cowlingeparishcouncil.gov.uk/meetings/council-meeting-29th-june-2022/
END:VEVENT
END:VCALENDAR
