BEGIN:VCALENDAR
VERSION:2.0
PRODID:-//Cowlinge Parish Council//Meeting Calendar//EN
CALSCALE:GREGORIAN
METHOD:PUBLISH
BEGIN:VEVENT
UID:70547-20221109@cowlingeparishcouncil.gov.uk
DTSTAMP:20260423T090344Z
DTSTART;VALUE=DATE:20221109
DTEND;VALUE=DATE:20221110
SUMMARY:Council Meeting &#8211\\; 9th November 2022
DESCRIPTION:Full Council Meeting\nView details: https://cowlingeparishcouncil.gov.uk/meetings/council-meeting-9th-november-2022/
URL:https://cowlingeparishcouncil.gov.uk/meetings/council-meeting-9th-november-2022/
END:VEVENT
END:VCALENDAR
