BEGIN:VCALENDAR
VERSION:2.0
PRODID:-//Cowlinge Parish Council//Meeting Calendar//EN
CALSCALE:GREGORIAN
METHOD:PUBLISH
BEGIN:VEVENT
UID:70552-20220214@cowlingeparishcouncil.gov.uk
DTSTAMP:20260422T131847Z
DTSTART;VALUE=DATE:20220214
DTEND;VALUE=DATE:20220215
SUMMARY:Council Meeting &#8211\\; 14th February 2022
DESCRIPTION:Full Council Meeting\nView details: https://cowlingeparishcouncil.gov.uk/meetings/council-meeting-14th-february-2022/
URL:https://cowlingeparishcouncil.gov.uk/meetings/council-meeting-14th-february-2022/
END:VEVENT
END:VCALENDAR
