BEGIN:VCALENDAR
VERSION:2.0
PRODID:-//Cowlinge Parish Council//Meeting Calendar//EN
CALSCALE:GREGORIAN
METHOD:PUBLISH
BEGIN:VEVENT
UID:70558-20220322@cowlingeparishcouncil.gov.uk
DTSTAMP:20260422T131558Z
DTSTART;VALUE=DATE:20220322
DTEND;VALUE=DATE:20220323
SUMMARY:Council Meeting &#8211\\; 22nd March 2022
DESCRIPTION:Full Council Meeting\nView details: https://cowlingeparishcouncil.gov.uk/meetings/council-meeting-22nd-march-2022/
URL:https://cowlingeparishcouncil.gov.uk/meetings/council-meeting-22nd-march-2022/
END:VEVENT
END:VCALENDAR
