BEGIN:VCALENDAR
VERSION:2.0
PRODID:-//Cowlinge Parish Council//Meeting Calendar//EN
CALSCALE:GREGORIAN
METHOD:PUBLISH
BEGIN:VEVENT
UID:70570-20230116@cowlingeparishcouncil.gov.uk
DTSTAMP:20260423T103648Z
DTSTART;VALUE=DATE:20230116
DTEND;VALUE=DATE:20230117
SUMMARY:Council Meeting &#8211\\; 16th January 2023
DESCRIPTION:Full Council Meeting\nView details: https://cowlingeparishcouncil.gov.uk/meetings/council-meeting-16th-january-2023/
URL:https://cowlingeparishcouncil.gov.uk/meetings/council-meeting-16th-january-2023/
END:VEVENT
END:VCALENDAR
