BEGIN:VCALENDAR
VERSION:2.0
PRODID:-//Cowlinge Parish Council//Meeting Calendar//EN
CALSCALE:GREGORIAN
METHOD:PUBLISH
BEGIN:VEVENT
UID:73144-20260302@cowlingeparishcouncil.gov.uk
DTSTAMP:20260422T084001Z
DTSTART;VALUE=DATE:20260302
DTEND;VALUE=DATE:20260303
SUMMARY:Monday 2nd March 2026
DESCRIPTION:Full Council Meeting\nView details: https://cowlingeparishcouncil.gov.uk/meetings/monday-2nd-march-2026/
URL:https://cowlingeparishcouncil.gov.uk/meetings/monday-2nd-march-2026/
END:VEVENT
END:VCALENDAR
